BEGIN:VCALENDAR
VERSION:2.0
PRODID:-//Squarespace Inc/Squarespace 6//v6//EN
BEGIN:VEVENT
UID:5dedbc125704156dcb0e11b0@squarespace.com
DTSTAMP:20191209T031441Z
DTSTART:20201029T130000Z
DTEND:20201029T210000Z
SUMMARY:Albany - Mandy Burrows
END:VEVENT
END:VCALENDAR
