BEGIN:VCALENDAR
VERSION:2.0
PRODID:-//Squarespace Inc/Squarespace 6//v6//EN
BEGIN:VEVENT
UID:5dedbb0a1704ea19202c09c1@squarespace.com
DTSTAMP:20191209T031020Z
DTSTART:20200618T130000Z
DTEND:20200618T210000Z
SUMMARY:Albany - Mandy Burrows
END:VEVENT
END:VCALENDAR
