BEGIN:VCALENDAR
VERSION:2.0
PRODID:-//Squarespace Inc/Squarespace 6//v6//EN
BEGIN:VEVENT
UID:5dedbc2f5704156dcb0e140d@squarespace.com
DTSTAMP:20191209T031518Z
DTSTART:20201210T140000Z
DTEND:20201210T220000Z
SUMMARY:Albany - Nellie Choi
END:VEVENT
END:VCALENDAR
