BEGIN:VCALENDAR
VERSION:2.0
PRODID:-//Squarespace Inc/Squarespace 6//v6//EN
BEGIN:VEVENT
UID:5dedbb29c8c6fd1d1c883389@squarespace.com
DTSTAMP:20191209T031119Z
DTSTART:20200416T130000Z
DTEND:20200416T210000Z
SUMMARY:Albany - Nellie Choi
END:VEVENT
END:VCALENDAR
