BEGIN:VCALENDAR
VERSION:2.0
PRODID:-//Squarespace Inc/Squarespace 6//v6//EN
BEGIN:VEVENT
UID:5dedbea05e5ce97f94f1e677@squarespace.com
DTSTAMP:20191209T085537Z
DTSTART:20201105T140000Z
DTEND:20201105T220000Z
SUMMARY:Busselton - Nellie Choi
END:VEVENT
END:VCALENDAR
