BEGIN:VCALENDAR
VERSION:2.0
PRODID:-//Squarespace Inc/Squarespace 6//v6//EN
BEGIN:VEVENT
UID:5dedbe835e5ce97f94f1e45a@squarespace.com
DTSTAMP:20191209T085459Z
DTSTART:20200521T130000Z
DTEND:20200521T210000Z
SUMMARY:Busselton - Nellie Choi
END:VEVENT
END:VCALENDAR
