BEGIN:VCALENDAR
VERSION:2.0
PRODID:-//Squarespace Inc/Squarespace 6//v6//EN
BEGIN:VEVENT
UID:5dedbde39d16d153cb956fa4@squarespace.com
DTSTAMP:20191209T034728Z
DTSTART:20200604T130000Z
DTEND:20200604T210000Z
SUMMARY:Claremont Vet Hospital - Nellie Choi
END:VEVENT
END:VCALENDAR
