BEGIN:VCALENDAR
VERSION:2.0
PRODID:-//Squarespace Inc/Squarespace 6//v6//EN
BEGIN:VEVENT
UID:5dedbdfb5e5ce97f94f1d51a@squarespace.com
DTSTAMP:20191209T034817Z
DTSTART:20200917T130000Z
DTEND:20200917T210000Z
SUMMARY:Claremont Vet Hospital - Nellie Choi
END:VEVENT
END:VCALENDAR
