BEGIN:VCALENDAR
VERSION:2.0
PRODID:-//Squarespace Inc/Squarespace 6//v6//EN
BEGIN:VEVENT
UID:5dedbdcdc8c6fd1d1c8883b9@squarespace.com
DTSTAMP:20191209T034645Z
DTSTART:20200312T130000Z
DTEND:20200312T210000Z
SUMMARY:Claremont Vet Hospital - Nellie Choi
END:VEVENT
END:VCALENDAR
