BEGIN:VCALENDAR
VERSION:2.0
PRODID:-//Squarespace Inc/Squarespace 6//v6//EN
BEGIN:VEVENT
UID:5dedbe2dc2fab6555b2a867f@squarespace.com
DTSTAMP:20191209T034656Z
DTSTART:20200326T130000Z
DTEND:20200326T210000Z
SUMMARY:Eaton - Nellie Choi
END:VEVENT
END:VCALENDAR
