BEGIN:VCALENDAR
VERSION:2.0
PRODID:-//Squarespace Inc/Squarespace 6//v6//EN
BEGIN:VEVENT
UID:5dedbcb19d16d153cb95503d@squarespace.com
DTSTAMP:20191209T031719Z
DTSTART:20200820T130000Z
DTEND:20200820T210000Z
SUMMARY:Geraldton - Mandy Burrows
END:VEVENT
END:VCALENDAR
