BEGIN:VCALENDAR
VERSION:2.0
PRODID:-//Squarespace Inc/Squarespace 6//v6//EN
BEGIN:VEVENT
UID:5dedbc855e5ce97f94f1aff4@squarespace.com
DTSTAMP:20191209T031646Z
DTSTART:20200507T130000Z
DTEND:20200507T210000Z
SUMMARY:Geraldton - Mandy Burrows
END:VEVENT
END:VCALENDAR
