BEGIN:VCALENDAR
VERSION:2.0
PRODID:-//Squarespace Inc/Squarespace 6//v6//EN
BEGIN:VEVENT
UID:5dedbd40e46e2d0693c99412@squarespace.com
DTSTAMP:20191209T034836Z
DTSTART:20201112T140000Z
DTEND:20201112T220000Z
SUMMARY:Kalgoorlie - Nellie Choi
END:VEVENT
END:VCALENDAR
