BEGIN:VCALENDAR
VERSION:2.0
PRODID:-//Squarespace Inc/Squarespace 6//v6//EN
BEGIN:VEVENT
UID:5dedbd779778c378d7d8c9b4@squarespace.com
DTSTAMP:20191209T034711Z
DTSTART:20200508T130000Z
DTEND:20200508T210000Z
SUMMARY:Perth Cat Hospital - Mandy Burrows
END:VEVENT
END:VCALENDAR
