BEGIN:VCALENDAR
VERSION:2.0
PRODID:-//Squarespace Inc/Squarespace 6//v6//EN
BEGIN:VEVENT
UID:5dedbd939d16d153cb956684@squarespace.com
DTSTAMP:20191209T034825Z
DTSTART:20200925T130000Z
DTEND:20200925T210000Z
SUMMARY:Perth Cat Hospital - Mandy Burrows
END:VEVENT
END:VCALENDAR
