BEGIN:VCALENDAR
VERSION:2.0
PRODID:-//Squarespace Inc/Squarespace 6//v6//EN
BEGIN:VEVENT
UID:5dedbd621704ea19202c4696@squarespace.com
DTSTAMP:20191209T034636Z
DTSTART:20200306T140000Z
DTEND:20200306T220000Z
SUMMARY:Perth Cat Hospital - Mandy Burrows
END:VEVENT
END:VCALENDAR
