BEGIN:VCALENDAR
VERSION:2.0
PRODID:-//Squarespace Inc/Squarespace 6//v6//EN
BEGIN:VEVENT
UID:5dedba64e46e2d0693c9424a@squarespace.com
DTSTAMP:20191209T034613Z
DTSTART:20200213T140000Z
DTEND:20200213T220000Z
SUMMARY:South Hedland - Nellie Choi
END:VEVENT
END:VCALENDAR
