BEGIN:VCALENDAR
VERSION:2.0
PRODID:-//Squarespace Inc/Squarespace 6//v6//EN
BEGIN:VEVENT
UID:5dedbefc9778c378d7d8f9b1@squarespace.com
DTSTAMP:20191209T085546Z
DTSTART:20201203T140000Z
DTEND:20201203T220000Z
SUMMARY:Vasse - Nellie Choi
END:VEVENT
END:VCALENDAR
