BEGIN:VCALENDAR
VERSION:2.0
PRODID:-//Squarespace Inc/Squarespace 6//v6//EN
BEGIN:VEVENT
UID:5dedbecbe46e2d0693c9bc8c@squarespace.com
DTSTAMP:20191209T085525Z
DTSTART:20200716T130000Z
DTEND:20200716T210000Z
SUMMARY:Vasse - Nellie Choi
END:VEVENT
END:VCALENDAR
